BEGIN:VCALENDAR
VERSION:2.0
PRODID:-//Taiwan Flipper Pinball Association - 台灣菲力霸//NONSGML kigkonsult.se iCalcreator 2.41.92//
CALSCALE:GREGORIAN
METHOD:PUBLISH
UID:32376336-6230-4631-b364-643034613733
X-WR-CALNAME:iCagenda
X-WR-CALDESC:Event Management Extension for Joomla!
X-WR-RELCALID:3E26604A-50F4-4449-8B3E-E4F4932D05B5
X-WR-TIMEZONE:Asia/Taipei
BEGIN:VTIMEZONE
TZID:Asia/Taipei
BEGIN:STANDARD
TZNAME:CST
DTSTART:20240212T160000
TZOFFSETFROM:+0000
TZOFFSETTO:+0800
END:STANDARD
END:VTIMEZONE
BEGIN:VEVENT
UID:66396232-3663-4533-a439-353534643861
DTSTAMP:20260422T090520Z
CATEGORIES:Upcoming Tournaments
CLASS:PUBLIC
DESCRIPTION;ALTREP="CID:<FFFF__=0ABBE548DFE235B58f9e8a93d@coffeebean.com>":
 November Nudge Fest\n \nGet your pinball nudging and flipper skills ready!
  Japan Flipper Pinball Association (JFPA) is sending some of their top pla
 yers to compete in Taiwan. Everyone is welcome regardless of age or skill 
 level.\nWe will host a multi day tournament with two days of qualifying. T
 he top 50% of players in qualifying will move on to finals. The cost is co
 mpletely FREE!!! There will be soda\, water and some light snacks provided
 .\nWe have some Stern Pinball flyers as giveaways. Winners will be randoml
 y selected Friday and Saturday. You must be present to win.\nWhat to expec
 t:\nYou can show up during any of the qualifying hours\, you do not need t
 o be present for alll of qualifying. You will have 40 entries across 10 ma
 chines to set your “best game” score on each machine. 1 game on 1 machine 
 = 1 entry. You can choose how you use all 40 entries.\nLocation: The Flipp
 er Room - 221新北市汐止區大同路一段94號\n\nQualifying:\n\nFormat: Hybrid Best Game\nDa
 te &amp\; Time:\n\nFriday\, November 14th 6:00 PM to 11:59 PM\nSaturday\, 
 November 15th 2:00 PM to 10:00 PM\n\n\nNumber of Machines: 10\nScores Coun
 ted: Top score from each machine\nEntries: All players will receive 40 ent
 ries (no additional entries available). Entries may be used however you li
 ke but you must play one entry at least 5 machines.\nScoring: INDISC 200 (
 200/195/190…)\nTie Breakers: Ties to determine byes or who moves on to fin
 als will be held before the start of finals on Sunday. Will be a best of 3
 .\n\n\nFinals:\n\nFormat: Head to Head Double Elimination (number of match
 es to be determined based off number of qualifiers and time)\nDate &amp\; 
 Time:\n\nNovember 16th 1:00 PM Start\n\n\nHighest seed selects player orde
 r or machine for first round. Lower seed selects the remaining option. Los
 er of previous round gets machine or player order choice.\n\n\n\nClosest B
 us Stops: 天良電視台 or 富信飯店站\nIf you are taking the bus please be careful as t
 here is no sidewalk in some areas!!\n \nNo onsite parking available! There
  is a parking lot about a 5 minute walk away.
DTSTART:20251114T100000Z
DTEND:20251116T120000Z
GEO:00;0
LOCATION:The Flipper Room
ORGANIZER;CN=:mailto:admin@tfpa.com.tw
SEQUENCE:1
SUMMARY:November Nudge Fest
TRANSP:OPAQUE
URL:https://tfpa.com.tw/en-us/upcoming-tournaments/november-nudge-fest-2025
 /2025-11-15-14-00
END:VEVENT
END:VCALENDAR
